BEGIN:VCALENDAR
VERSION:2.0
PRODID:-//Roanoke Parks And Recreation - ECPv6.6.4.2//NONSGML v1.0//EN
CALSCALE:GREGORIAN
METHOD:PUBLISH
X-ORIGINAL-URL:https://www.playroanoke.com
X-WR-CALDESC:Events for Roanoke Parks And Recreation
REFRESH-INTERVAL;VALUE=DURATION:PT1H
X-Robots-Tag:noindex
X-PUBLISHED-TTL:PT1H
BEGIN:VTIMEZONE
TZID:America/New_York
BEGIN:DAYLIGHT
TZOFFSETFROM:-0500
TZOFFSETTO:-0400
TZNAME:EDT
DTSTART:20260308T070000
END:DAYLIGHT
BEGIN:STANDARD
TZOFFSETFROM:-0400
TZOFFSETTO:-0500
TZNAME:EST
DTSTART:20261101T060000
END:STANDARD
END:VTIMEZONE
BEGIN:VEVENT
DTSTART;VALUE=DATE:20260113
DTEND;VALUE=DATE:20260424
DTSTAMP:20260421T061815
CREATED:20251218T144146Z
LAST-MODIFIED:20260106T180749Z
UID:10004766-1768262400-1776988799@www.playroanoke.com
SUMMARY:2026 Roanoke 100 Miler
DESCRIPTION:
URL:https://www.playroanoke.com/activity/2026-roanoke-100-miler/
CATEGORIES:Fitness
END:VEVENT
BEGIN:VEVENT
DTSTART;TZID=America/New_York:20260421T173000
DTEND;TZID=America/New_York:20260421T190000
DTSTAMP:20260421T061815
CREATED:20260212T203825Z
LAST-MODIFIED:20260212T205106Z
UID:10004878-1776792600-1776798000@www.playroanoke.com
SUMMARY:Parks and Recreation Advisory Board Meeting
DESCRIPTION:
URL:https://www.playroanoke.com/activity/parks-and-recreation-advisory-board-monthly-meeting/2026-04-21/
CATEGORIES:Meetings
END:VEVENT
BEGIN:VEVENT
DTSTART;TZID=America/New_York:20260423T173000
DTEND;TZID=America/New_York:20260423T183000
DTSTAMP:20260421T061815
CREATED:20260407T143652Z
LAST-MODIFIED:20260407T143652Z
UID:10004942-1776965400-1776969000@www.playroanoke.com
SUMMARY:2026 100 Miler Finale
DESCRIPTION:
URL:https://www.playroanoke.com/activity/2026-100-miler-finale/
LOCATION:Mill Mountain Discovery Center\, 2000 J P Fishburn Pkwy\,\, Roanoke\, VA\, 24013\, United States
GEO:37.2497674;-79.9354177
X-APPLE-STRUCTURED-LOCATION;VALUE=URI;X-ADDRESS=Mill Mountain Discovery Center 2000 J P Fishburn Pkwy Roanoke VA 24013 United States;X-APPLE-RADIUS=500;X-TITLE=2000 J P Fishburn Pkwy\,:geo:-79.9354177,37.2497674
END:VEVENT
BEGIN:VEVENT
DTSTART;TZID=America/New_York:20260423T173000
DTEND;TZID=America/New_York:20260423T203000
DTSTAMP:20260421T061815
CREATED:20260203T135743Z
LAST-MODIFIED:20260203T135743Z
UID:10004835-1776965400-1776976200@www.playroanoke.com
SUMMARY:Roanoke River Evening Paddle
DESCRIPTION:
URL:https://www.playroanoke.com/activity/roanoke-river-evening-paddle/
CATEGORIES:Paddling
END:VEVENT
BEGIN:VEVENT
DTSTART;TZID=America/New_York:20260424T090000
DTEND;TZID=America/New_York:20260424T120000
DTSTAMP:20260421T061815
CREATED:20260416T121717Z
LAST-MODIFIED:20260416T144012Z
UID:10004953-1777021200-1777032000@www.playroanoke.com
SUMMARY:Arbor Day Volunteer Tree Planting
DESCRIPTION:
URL:https://www.playroanoke.com/activity/arbor-day/
LOCATION:Wasena Park\, 1001 Winchester Ave SW\, Wasena Park\, 1001 Winchester Ave SW
END:VEVENT
BEGIN:VEVENT
DTSTART;TZID=America/New_York:20260424T193000
DTEND;TZID=America/New_York:20260424T223000
DTSTAMP:20260421T061815
CREATED:20260203T140045Z
LAST-MODIFIED:20260226T190559Z
UID:10004836-1777059000-1777069800@www.playroanoke.com
SUMMARY:Bug & Bat Night
DESCRIPTION:
URL:https://www.playroanoke.com/activity/bug-bat-night/
LOCATION:Mill Mountain Discovery Center\, Mill Mountain Discovery Center
CATEGORIES:Environmental Education,Youth
END:VEVENT
BEGIN:VEVENT
DTSTART;TZID=America/New_York:20260425T090000
DTEND;TZID=America/New_York:20260425T160000
DTSTAMP:20260421T061815
CREATED:20260206T191110Z
LAST-MODIFIED:20260211T131329Z
UID:10004857-1777107600-1777132800@www.playroanoke.com
SUMMARY:3 Peak Hike Series: Sharp Top
DESCRIPTION:
URL:https://www.playroanoke.com/activity/3-peak-series-sharp-top/
CATEGORIES:Hiking
END:VEVENT
BEGIN:VEVENT
DTSTART;TZID=America/New_York:20260429T170000
DTEND;TZID=America/New_York:20260429T210000
DTSTAMP:20260421T061815
CREATED:20260203T140516Z
LAST-MODIFIED:20260226T194217Z
UID:10004837-1777482000-1777496400@www.playroanoke.com
SUMMARY:Short Track Preview On the Rocks II
DESCRIPTION:
URL:https://www.playroanoke.com/activity/short-track-preview-on-the-rocks-ii/
LOCATION:Elmwood Park\, 700 S Jefferson St.\, Roanoke\, VA\, 24011\, United States
CATEGORIES:Biking,Event,Race
ATTACH;FMTTYPE=image/jpeg:https://www.playroanoke.com/wp-content/uploads/2026/02/DSCF3906.jpg
GEO:37.2681531;-79.9406969
X-APPLE-STRUCTURED-LOCATION;VALUE=URI;X-ADDRESS=Elmwood Park 700 S Jefferson St. Roanoke VA 24011 United States;X-APPLE-RADIUS=500;X-TITLE=700 S Jefferson St.:geo:-79.9406969,37.2681531
END:VEVENT
END:VCALENDAR