BEGIN:VCALENDAR
VERSION:2.0
PRODID:-//Roanoke Parks And Recreation - ECPv6.6.4.2//NONSGML v1.0//EN
CALSCALE:GREGORIAN
METHOD:PUBLISH
X-WR-CALNAME:Roanoke Parks And Recreation
X-ORIGINAL-URL:https://www.playroanoke.com
X-WR-CALDESC:Events for Roanoke Parks And Recreation
REFRESH-INTERVAL;VALUE=DURATION:PT1H
X-Robots-Tag:noindex
X-PUBLISHED-TTL:PT1H
BEGIN:VTIMEZONE
TZID:America/New_York
BEGIN:DAYLIGHT
TZOFFSETFROM:-0500
TZOFFSETTO:-0400
TZNAME:EDT
DTSTART:20260308T070000
END:DAYLIGHT
BEGIN:STANDARD
TZOFFSETFROM:-0400
TZOFFSETTO:-0500
TZNAME:EST
DTSTART:20261101T060000
END:STANDARD
END:VTIMEZONE
BEGIN:VEVENT
DTSTART;TZID=America/New_York:20260425T090000
DTEND;TZID=America/New_York:20260425T160000
DTSTAMP:20260423T071529
CREATED:20260206T191110Z
LAST-MODIFIED:20260211T131329Z
UID:10004857-1777107600-1777132800@www.playroanoke.com
SUMMARY:3 Peak Hike Series: Sharp Top
DESCRIPTION:
URL:https://www.playroanoke.com/activity/3-peak-series-sharp-top/
CATEGORIES:Hiking
END:VEVENT
BEGIN:VEVENT
DTSTART;TZID=America/New_York:20260502T090000
DTEND;TZID=America/New_York:20260502T150000
DTSTAMP:20260423T071529
CREATED:20260206T191456Z
LAST-MODIFIED:20260211T131209Z
UID:10004858-1777712400-1777734000@www.playroanoke.com
SUMMARY:Spring Blooms Hike Series: Poor Mountain
DESCRIPTION:
URL:https://www.playroanoke.com/activity/spring-blooms-hike-series-poor-mountain/
CATEGORIES:Hiking
END:VEVENT
BEGIN:VEVENT
DTSTART;TZID=America/New_York:20260509T090000
DTEND;TZID=America/New_York:20260509T160000
DTSTAMP:20260423T071529
CREATED:20260211T124954Z
LAST-MODIFIED:20260211T131336Z
UID:10004859-1778317200-1778342400@www.playroanoke.com
SUMMARY:3 Peak Series: Flat Top
DESCRIPTION:
URL:https://www.playroanoke.com/activity/3-peak-series-flat-top/
CATEGORIES:Hiking
END:VEVENT
BEGIN:VEVENT
DTSTART;TZID=America/New_York:20260519T090000
DTEND;TZID=America/New_York:20260519T140000
DTSTAMP:20260423T071529
CREATED:20260211T125523Z
LAST-MODIFIED:20260211T125954Z
UID:10004860-1779181200-1779199200@www.playroanoke.com
SUMMARY:Senior Summits: Hanging Rock
DESCRIPTION:
URL:https://www.playroanoke.com/activity/senior-summits-hanging-rock/
CATEGORIES:Hiking,Seniors
END:VEVENT
BEGIN:VEVENT
DTSTART;TZID=America/New_York:20260523T090000
DTEND;TZID=America/New_York:20260523T130000
DTSTAMP:20260423T071529
CREATED:20260211T130829Z
LAST-MODIFIED:20260211T131212Z
UID:10004861-1779526800-1779541200@www.playroanoke.com
SUMMARY:Spring Blooms Hike Series: Happy Hollow Gardens
DESCRIPTION:
URL:https://www.playroanoke.com/activity/spring-blooms-hike-series-happy-hollow-gardens/
CATEGORIES:Hiking
END:VEVENT
BEGIN:VEVENT
DTSTART;TZID=America/New_York:20260606T090000
DTEND;TZID=America/New_York:20260606T130000
DTSTAMP:20260423T071529
CREATED:20260211T130949Z
LAST-MODIFIED:20260211T131206Z
UID:10004862-1780736400-1780750800@www.playroanoke.com
SUMMARY:Spring Blooms Hike Series: Bottom Creek Gorge
DESCRIPTION:
URL:https://www.playroanoke.com/activity/spring-blooms-hike-series-bottom-creek-gorge/
CATEGORIES:Hiking
END:VEVENT
END:VCALENDAR