BEGIN:VCALENDAR
VERSION:2.0
PRODID:-//Roanoke Parks And Recreation - ECPv6.6.4.2//NONSGML v1.0//EN
CALSCALE:GREGORIAN
METHOD:PUBLISH
X-WR-CALNAME:Roanoke Parks And Recreation
X-ORIGINAL-URL:https://www.playroanoke.com
X-WR-CALDESC:Events for Roanoke Parks And Recreation
REFRESH-INTERVAL;VALUE=DURATION:PT1H
X-Robots-Tag:noindex
X-PUBLISHED-TTL:PT1H
BEGIN:VTIMEZONE
TZID:America/New_York
BEGIN:DAYLIGHT
TZOFFSETFROM:-0500
TZOFFSETTO:-0400
TZNAME:EDT
DTSTART:20260308T070000
END:DAYLIGHT
BEGIN:STANDARD
TZOFFSETFROM:-0400
TZOFFSETTO:-0500
TZNAME:EST
DTSTART:20261101T060000
END:STANDARD
END:VTIMEZONE
BEGIN:VEVENT
DTSTART;TZID=America/New_York:20260510T170000
DTEND;TZID=America/New_York:20260510T190000
DTSTAMP:20260424T072846
CREATED:20260109T132007Z
LAST-MODIFIED:20260226T134122Z
UID:10004809-1778432400-1778439600@www.playroanoke.com
SUMMARY:Music on the Mountain: Magnolia Revival
DESCRIPTION:
URL:https://www.playroanoke.com/activity/music-on-the-mountain-may/
LOCATION:Mill Mountain Discovery Center\, Mill Mountain Discovery Center
CATEGORIES:Event,Community Special Event
ATTACH;FMTTYPE=image/jpeg:https://www.playroanoke.com/wp-content/uploads/2025/12/11x17-Music-on-the-Mountain-Poster-Spring-2026-Instagram-Post.jpg
END:VEVENT
BEGIN:VEVENT
DTSTART;TZID=America/New_York:20260513T180000
DTEND;TZID=America/New_York:20260513T200000
DTSTAMP:20260424T072846
CREATED:20260206T153627Z
LAST-MODIFIED:20260226T194527Z
UID:10004839-1778695200-1778702400@www.playroanoke.com
SUMMARY:Wednesday Night Disco Classic 🪩
DESCRIPTION:
URL:https://www.playroanoke.com/activity/wednesday-night-disco-classic/
LOCATION:Mill Mountain Discovery Center\, Mill Mountain Discovery Center
CATEGORIES:Biking,Event,Race
ATTACH;FMTTYPE=image/jpeg:https://www.playroanoke.com/wp-content/uploads/2026/02/disco-cover.jpg
ORGANIZER;CN="PLAY Roanoke":MAILTO:noreply@facebookmail_com
END:VEVENT
BEGIN:VEVENT
DTSTART;TZID=America/New_York:20260513T180000
DTEND;TZID=America/New_York:20260513T200000
DTSTAMP:20260424T072846
CREATED:20260225T200733Z
LAST-MODIFIED:20260225T200733Z
UID:10004909-1778695200-1778702400@www.playroanoke.com
SUMMARY:Boogie on the Mountain: The String Avengers
DESCRIPTION:
URL:https://www.playroanoke.com/activity/boogie-on-the-mountain-the-string-avengers/
LOCATION:Mill Mountain Discovery Center\, Mill Mountain Discovery Center
CATEGORIES:Event
END:VEVENT
BEGIN:VEVENT
DTSTART;TZID=America/New_York:20260517T120000
DTEND;TZID=America/New_York:20260517T190000
DTSTAMP:20260424T072846
CREATED:20260120T181341Z
LAST-MODIFIED:20260320T113328Z
UID:10004818-1779019200-1779044400@www.playroanoke.com
SUMMARY:Kids to Parks Day: Free Movies in Elmwood Park
DESCRIPTION:
URL:https://www.playroanoke.com/activity/kids-to-parks-day-free-elmwood-movies/
LOCATION:Elmwood Park\, Elmwood Park
CATEGORIES:Event,Youth
END:VEVENT
BEGIN:VEVENT
DTSTART;TZID=America/New_York:20260527T180000
DTEND;TZID=America/New_York:20260527T200000
DTSTAMP:20260424T072846
CREATED:20260206T154215Z
LAST-MODIFIED:20260226T194511Z
UID:10004842-1779904800-1779912000@www.playroanoke.com
SUMMARY:Wednesday Night Disco "The New Boogie" 🪩
DESCRIPTION:
URL:https://www.playroanoke.com/activity/wednesday-night-disco-the-new-boogie/
LOCATION:Mill Mountain Discovery Center\, Mill Mountain Discovery Center
CATEGORIES:Biking,Event,Race
ATTACH;FMTTYPE=image/jpeg:https://www.playroanoke.com/wp-content/uploads/2026/02/disco-cover.jpg
END:VEVENT
BEGIN:VEVENT
DTSTART;TZID=America/New_York:20260527T180000
DTEND;TZID=America/New_York:20260527T200000
DTSTAMP:20260424T072846
CREATED:20260225T200910Z
LAST-MODIFIED:20260225T200910Z
UID:10004910-1779904800-1779912000@www.playroanoke.com
SUMMARY:Boogie on the Mountain: Kerosene Willy
DESCRIPTION:
URL:https://www.playroanoke.com/activity/boogie-on-the-mountain-kerosene-willy/
LOCATION:Mill Mountain Discovery Center\, Mill Mountain Discovery Center
CATEGORIES:Event
END:VEVENT
BEGIN:VEVENT
DTSTART;TZID=America/New_York:20260530T100000
DTEND;TZID=America/New_York:20260530T140000
DTSTAMP:20260424T072846
CREATED:20260416T172822Z
LAST-MODIFIED:20260416T183652Z
UID:10004954-1780135200-1780149600@www.playroanoke.com
SUMMARY:PLAY-Palooza
DESCRIPTION:
URL:https://www.playroanoke.com/activity/play-palooza/
LOCATION:Fallon Park\, Fallon Park
CATEGORIES:Event,Community Special Event
ATTACH;FMTTYPE=image/png:https://www.playroanoke.com/wp-content/uploads/2026/04/PLAY-PALOOZA-2.png
END:VEVENT
END:VCALENDAR