BEGIN:VCALENDAR
VERSION:2.0
PRODID:-//Roanoke Parks And Recreation - ECPv6.6.4.2//NONSGML v1.0//EN
CALSCALE:GREGORIAN
METHOD:PUBLISH
X-WR-CALNAME:Roanoke Parks And Recreation
X-ORIGINAL-URL:https://www.playroanoke.com
X-WR-CALDESC:Events for Roanoke Parks And Recreation
REFRESH-INTERVAL;VALUE=DURATION:PT1H
X-Robots-Tag:noindex
X-PUBLISHED-TTL:PT1H
BEGIN:VTIMEZONE
TZID:America/New_York
BEGIN:DAYLIGHT
TZOFFSETFROM:-0500
TZOFFSETTO:-0400
TZNAME:EDT
DTSTART:20260308T070000
END:DAYLIGHT
BEGIN:STANDARD
TZOFFSETFROM:-0400
TZOFFSETTO:-0500
TZNAME:EST
DTSTART:20261101T060000
END:STANDARD
END:VTIMEZONE
BEGIN:VEVENT
DTSTART;TZID=America/New_York:20260419T113000
DTEND;TZID=America/New_York:20260419T190000
DTSTAMP:20260419T130401
CREATED:20260211T140050Z
LAST-MODIFIED:20260211T141814Z
UID:10004869-1776598200-1776625200@www.playroanoke.com
SUMMARY:DAY TRIP: Barter Theatre Matinee "Always...Patsy Cline"
DESCRIPTION:
URL:https://www.playroanoke.com/activity/day-trip-barter-theatre-matinee-always-patsy-cline/
CATEGORIES:Day Trips
ATTACH;FMTTYPE=image/jpeg:https://www.playroanoke.com/wp-content/uploads/2026/02/barter.jpg
END:VEVENT
BEGIN:VEVENT
DTSTART;TZID=America/New_York:20260502T120000
DTEND;TZID=America/New_York:20260502T183000
DTSTAMP:20260419T130401
CREATED:20260211T140307Z
LAST-MODIFIED:20260211T141838Z
UID:10004871-1777723200-1777746600@www.playroanoke.com
SUMMARY:DAY TRIP: London's Salt Spa Mother's Day + Winery Fables & Feathers Winery & Brewery
DESCRIPTION:
URL:https://www.playroanoke.com/activity/day-trip-londons-salt-spa-mothers-day-winery-fables-feathers-winery-brewery/
CATEGORIES:Day Trips
ATTACH;FMTTYPE=image/png:https://www.playroanoke.com/wp-content/uploads/2026/02/salt-cave.png
END:VEVENT
BEGIN:VEVENT
DTSTART;TZID=America/New_York:20260516T110000
DTEND;TZID=America/New_York:20260516T173000
DTSTAMP:20260419T130401
CREATED:20260211T140401Z
LAST-MODIFIED:20260211T141644Z
UID:10004872-1778929200-1778952600@www.playroanoke.com
SUMMARY:DAY TRIP: Old City Cemetery/Point of Honor Tours + Lunch
DESCRIPTION:
URL:https://www.playroanoke.com/activity/day-trip-old-city-cemetery-point-of-honor-tours-lunch/
CATEGORIES:Day Trips
ATTACH;FMTTYPE=image/jpeg:https://www.playroanoke.com/wp-content/uploads/2026/02/point-of-honor.jpg
END:VEVENT
BEGIN:VEVENT
DTSTART;TZID=America/New_York:20260529T103000
DTEND;TZID=America/New_York:20260529T170000
DTSTAMP:20260419T130401
CREATED:20260211T140453Z
LAST-MODIFIED:20260211T160104Z
UID:10004873-1780050600-1780074000@www.playroanoke.com
SUMMARY:DAY TRIP: Patrick Henry Red Hill National Monument Tour + Lunch
DESCRIPTION:
URL:https://www.playroanoke.com/activity/day-trip-patrick-henry-red-hill-national-monument-tour-lunch/
CATEGORIES:Day Trips
ATTACH;FMTTYPE=image/jpeg:https://www.playroanoke.com/wp-content/uploads/2026/02/patrick-henry-red-hill.jpg
END:VEVENT
END:VCALENDAR