BEGIN:VCALENDAR
VERSION:2.0
PRODID:-//Roanoke Parks And Recreation - ECPv6.6.4.2//NONSGML v1.0//EN
CALSCALE:GREGORIAN
METHOD:PUBLISH
X-WR-CALNAME:Roanoke Parks And Recreation
X-ORIGINAL-URL:https://www.playroanoke.com
X-WR-CALDESC:Events for Roanoke Parks And Recreation
REFRESH-INTERVAL;VALUE=DURATION:PT1H
X-Robots-Tag:noindex
X-PUBLISHED-TTL:PT1H
BEGIN:VTIMEZONE
TZID:America/New_York
BEGIN:DAYLIGHT
TZOFFSETFROM:-0500
TZOFFSETTO:-0400
TZNAME:EDT
DTSTART:20260308T070000
END:DAYLIGHT
BEGIN:STANDARD
TZOFFSETFROM:-0400
TZOFFSETTO:-0500
TZNAME:EST
DTSTART:20261101T060000
END:STANDARD
END:VTIMEZONE
BEGIN:VEVENT
DTSTART;TZID=America/New_York:20260402T093000
DTEND;TZID=America/New_York:20260402T163000
DTSTAMP:20260423T200235
CREATED:20260211T135944Z
LAST-MODIFIED:20260211T141912Z
UID:10004868-1775122200-1775147400@www.playroanoke.com
SUMMARY:DAY TRIP: Trader Joes Shopping Winston Salem + Olde Salem Lunch
DESCRIPTION:
URL:https://www.playroanoke.com/activity/day-trip-trader-joes-shopping-winston-salem-olde-salem-lunch/
CATEGORIES:Day Trips
ATTACH;FMTTYPE=image/png:https://www.playroanoke.com/wp-content/uploads/2025/09/trader-joes.png
END:VEVENT
END:VCALENDAR